BEGIN:VCALENDAR
VERSION:2.0
PRODID:https://github.com/derhansen/sf_event_mgt
METHOD:PUBLISH
BEGIN:VEVENT
UID:339-1972@www.hs-schmalkalden.de
CLASS: PUBLIC
SUMMARY:16. Schmalkalder Werkzeugtagung
DESCRIPTION:Die Schmalkalder Werkzeugtagung ist eines der zentralen Branche
 ntreffen im Bereich der Werkzeug- und Fertigungstechnik. Auch in diesem Jah
 r erwarten Sie spannende Fachvorträge, aktuelle Forschungsergebnisse und de
 r direkte Austausch mit Experten aus Industrie und Wissenschaft. Seien Sie 
 dabei, wenn wir die neuesten Innovationen und Entwicklungen in der Werkzeug
 branche präsentieren. Merken Sie sich die Termine vor – wir freuen uns auf 
 Ihren Besuch im November!\n\nFür weitere Informationen und Ihre Anmeldung b
 esuchen Sie bitte die Webseite der GFE Schmalkalden. \n\nGFE Schmalkalden
DTSTAMP:20251124T141724Z
DTSTART:20251126T090000Z
DTEND:20251127T160000Z
END:VEVENT
END:VCALENDAR
