BEGIN:VCALENDAR
VERSION:2.0
PRODID:https://github.com/derhansen/sf_event_mgt
METHOD:PUBLISH
BEGIN:VEVENT
UID:399-1972@www.hs-schmalkalden.de
CLASS: PUBLIC
SUMMARY:Alumni Stories: Camila Rodrigues
DESCRIPTION:From Brazil to Meiningen\n\nFor the first time, the event serie
 s “Alumni Stories – From Schmalkalden to the World” welcomes a graduate fro
 m Brazil: Camila Rodrigues.\n\nCamila first came to Schmalkalden University
  of Applied Sciences as an exchange student, completed her Master’s degree 
 in Mechatronics & Robotics (M. Eng.), and now works as a Test Design Engine
 er at ADTRAN Networks SE in Meiningen.\n\nIn her talk, she shares her journ
 ey from Brazil to Germany, her personal experiences entering the job market
 , and the challenges and opportunities faced by international graduates in 
 Germany. Students will gain valuable insights into the career paths of Schm
 alkalden alumni and receive practical tips for finding a job in Germany.\n\
 n\n\nThe event will be held in English and is open to all interested partic
 ipants.\n\n\n\nVenue: Room H112, Schmalkalden University of Applied Science
 s\n\nDate & Time: Friday, 24 October 2025, 1:00 – 2:00 p.m.\n\n\n\nOnline p
 articipation via Microsoft Teams: Alumni Story
DTSTAMP:20251023T120804Z
DTSTART:20251024T110000Z
DTEND:20251024T120000Z
END:VEVENT
END:VCALENDAR
