BEGIN:VCALENDAR
VERSION:2.0
PRODID:https://github.com/derhansen/sf_event_mgt
METHOD:PUBLISH
BEGIN:VEVENT
UID:274-1972@www.hs-schmalkalden.de
CLASS: PUBLIC
SUMMARY:Antrittsvorlesung Prof. Dr. Kramer und Forschungssemesterbericht Pr
 of. Dr. Müller
DESCRIPTION:Traditionell ermöglicht die Hochschule Schmalkalden den neu ber
 ufenen Professorinnen und Professoren sich in einer ca. 25minütigen Antritt
 svorlesung den Studierenden, Professor(inn)en und Mitarbeiter(inne)n der Ho
 chschule vorzustellen.\n\nIn der Veranstaltung am 21. Mai 2025 stellt sich 
 Prof. Dr. Ralf Martin Kramer aus der Fakultät Elektrotechnik in seiner Antr
 ittsvorlesung der Hochschulöffentlichkeit vor.\n\nIm Anschluss berichtet Pr
 of. Dr. Ulf Müller aus der Fakultät Wirtschaftsrecht über die Ergebnisse au
 s seinem Forschungssemester zum Thema "Europäisches Innovationsrecht".
DTSTAMP:20250514T114927Z
DTSTART:20250521T160000Z
DTEND:20250521T173000Z
END:VEVENT
END:VCALENDAR
