BEGIN:VCALENDAR
VERSION:2.0
PRODID:https://github.com/derhansen/sf_event_mgt
METHOD:PUBLISH
BEGIN:VEVENT
UID:403-1972@www.hs-schmalkalden.de
CLASS: PUBLIC
SUMMARY:The JENA Digital Safari - Behind the Scenes of Jena’s Digital Econo
 my
DESCRIPTION:The International Career Service (ICS) of Schmalkalden Universi
 ty of Applied Sciences, together with JENA Digital e. V. and Techniker Kran
 kenkasse, invites students to join the third JENA Digital Safari on 28 Octo
 ber 2025 — a full-day exploration of Jena’s thriving digital scene.\n\nNow 
 in its third year, the JENA Digital Safari has become a staple in the stude
 nt career calendar. After two highly successful editions in 2023 and 2024, 
 the format continues to connect students directly with leading employers, i
 nnovative technologies, and valuable professional networks.\n\nThroughout t
 he day, participants will get an inside look at how digital transformation 
 is shaping software development, IT consulting, e-commerce, and smart manuf
 acturing — through company tours, expert talks, and networking sessions hos
 ted by Adesso SE, Accenture GmbH, dotSource SE, Goepel Electronics GmbH, wa
 rmwind AG, and zollsoft GmbH.\n\nThe JENA Digital Safari is open to student
 s of computer science, business informatics, business administration, and r
 elated fields. Participation is free, but spots are limited — so don’t wait
  to sign up!\n\nSpecial thanks goes to the Student Council for organizing a
 nd sponsoring the bus transfer from the Schmalkalden campus.\n\nFind out mo
 re and register here: https://jenadigitalsafari25.eventbrite.de\n\n\n\n
DTSTAMP:20251028T085641Z
DTSTART:20251028T080000Z
DTEND:20251028T080000Z
END:VEVENT
END:VCALENDAR
