BEGIN:VCALENDAR
VERSION:2.0
PRODID:https://github.com/derhansen/sf_event_mgt
METHOD:PUBLISH
BEGIN:VEVENT
UID:284-1972@www.hs-schmalkalden.de
CLASS: PUBLIC
SUMMARY:Registration for University Sports
DESCRIPTION:Registration for University Sports in the Summer Semester 2025\
 n\nWe are pleased to offer a diverse sports program again in the summer sem
 ester 2025.\n\nRegistration opens on Wednesday, March 26, 2025, at 4:00 PM 
 via Stud.IP. To find the available courses, simply search for "Hochschulspo
 rt" in Stud.IP.\n\nWe look forward to your participation!\n\n\n\n
DTSTAMP:20250325T135253Z
DTSTART:20250326T150000Z
DTEND:20250331T100000Z
END:VEVENT
END:VCALENDAR
