BEGIN:VCALENDAR
VERSION:2.0
PRODID:https://github.com/derhansen/sf_event_mgt
METHOD:PUBLISH
BEGIN:VEVENT
UID:385-1972@www.hs-schmalkalden.de
CLASS: PUBLIC
SUMMARY:Registration University Sports
DESCRIPTION:Registration for University Sports in Winter Semester 2025/26\n
 \nWe are pleased to offer a diverse sports program again in winter semester
  2025/26.\n\nRegistration opens on Wednesday, October 8th, 2025, at 4:00 PM
  via Stud.IP. To find the available courses, simply search for "Hochschulsp
 ort" in Stud.IP.\n\nWe look forward to your participation!\n\n\n\n
DTSTAMP:20251002T065145Z
DTSTART:20251008T140000Z
DTEND:20251008T215900Z
END:VEVENT
END:VCALENDAR
