BEGIN:VCALENDAR
VERSION:2.0
PRODID:https://github.com/derhansen/sf_event_mgt
METHOD:PUBLISH
BEGIN:VEVENT
UID:342-1972@www.hs-schmalkalden.de
CLASS: PUBLIC
SUMMARY:Feierliche Übergabe der Deutschlandstipendien
DESCRIPTION:Die feierliche Übergabe der Deutschlandstipendien findet am 22.
  Oktober um 17:00 Uhr im Audimax der Hochschule Schmalkalden statt.  \n\nPr
 ogramm\n\n Musikalische Eröffnung\n\n Begrüßung      \n\nProf. Dr. Gundolf 
 Baier, Hochschulpräsident  \n\nDas Deutschlandstipendium aus studentischer 
 Sicht\n\n Urkundenverleihung  \n\nProf. Dr. Gundolf Baier  Förderer des Deu
 tschlandstipendiums\n\n Musikalischer Ausklang\n\n\n\nGet Together bei Sekt
  und Buffet 
DTSTAMP:20250904T085529Z
DTSTART:20251022T150000Z
DTEND:20251022T170000Z
END:VEVENT
END:VCALENDAR
