BEGIN:VCALENDAR
VERSION:2.0
PRODID:https://github.com/derhansen/sf_event_mgt
METHOD:PUBLISH
BEGIN:VEVENT
UID:132-1972@www.hs-schmalkalden.de
CLASS: PUBLIC
SUMMARY:Forschungssemesterberichte Prof. Dr. Golz und Prof. Dr. Ulbrich
DESCRIPTION:In der Veranstaltung am 29. Mai 2024 stellen Prof. Dr. Martin G
 olz aus der Fakultät Informatik sowie Prof. Dr. Mathias Ulbrich aus der Fak
 ultät Wirtschaftsrecht in einem jeweils ca. 25 minütigen Vortrag die Ergebn
 isse ihrer Forschungssemester vor.\n\nAlle Interessierten sind zu der Veran
 staltung um 18:00 Uhr in die Aula eingeladen.
DTSTAMP:20240510T082246Z
DTSTART:20240529T160000Z
DTEND:20240529T173000Z
END:VEVENT
END:VCALENDAR
