BEGIN:VCALENDAR
VERSION:2.0
PRODID:https://github.com/derhansen/sf_event_mgt
METHOD:PUBLISH
BEGIN:VEVENT
UID:405-1972@www.hs-schmalkalden.de
CLASS: PUBLIC
SUMMARY:Research semester report Prof. Dr. Lisiewicz
DESCRIPTION:In der Veranstaltung am 03. Dezember 2025 stellt Prof. Dr. Wojc
 iech Lisiewicz aus der Fakultät Wirtschaftrecht zum Thema "Daten-GAUs in öf
 fentlichen Einrichtungen"  in einem ca. 25 minütigen Vortrag die Ergebnisse
  seines Forschungssemester vor.\n\nAlle Interessierten sind zu der Veransta
 ltung um 18:00 Uhr in die Aula eingeladen.
DTSTAMP:20251203T151650Z
DTSTART:20251203T180000Z
DTEND:20251203T193000Z
END:VEVENT
END:VCALENDAR
