BEGIN:VCALENDAR
VERSION:2.0
PRODID:https://github.com/derhansen/sf_event_mgt
METHOD:PUBLISH
BEGIN:VEVENT
UID:458-1972@www.hs-schmalkalden.de
CLASS: PUBLIC
SUMMARY:Start-up Competition 2026
DESCRIPTION:Do you have a vision that makes everyday life smarter, solves a
  technical problem, or makes the world a little more sustainable? Then take
  this opportunity and apply for the 2026 Start-up Idea Competition! Win fin
 ancial support to make your vision a reality. \n\nImportant dates:\n\nAppli
 cation start: January 12, 2026\n\nDeadline: May 22, 2026, 8:00 p.m. \n\nPit
 ch and award ceremony: June 17, 2026\n\nPrizes:\n\nThe top three winners wi
 ll receive a grant to develop their idea, whether for market research, buil
 ding a prototype, or preparing for EXIST funding.\n\nFurther information ab
 out the participation requirements and the application form templates can b
 e found on the Start-up Service website.\n\nhttps://www.hs-schmalkalden.de/
 en/research/start-up-service\n\n\n\n
DTSTAMP:20260320T074416Z
DTSTART:20260501T075400Z
DTEND:20260522T085400Z
END:VEVENT
END:VCALENDAR
