BEGIN:VCALENDAR
VERSION:2.0
PRODID:https://github.com/derhansen/sf_event_mgt
METHOD:PUBLISH
BEGIN:VEVENT
UID:194-1972@www.hs-schmalkalden.de
CLASS: PUBLIC
SUMMARY:HSM.International 2024 - Exkursion nach Polen
DESCRIPTION:Schmalkalden University of Applied Sciences was able to secure 
 a project within the DAAD funding line "HAW.International," which is suppor
 ted by the Federal Ministry of Education and Research (BMBF). The subprojec
 t "Short-Term.International" included in this initiative aims to support st
 udents with limited mobility experience by introducing practical short-term
  mobility opportunities. In 2024, three seven-day stays will be offered to 
 students as part of a full scholarship:\n\n 	From September 1st to 7th, 202
 4, a field trip to Wroclaw (Breslau), Poland, will take place. \n\nThe sele
 ction process for participation in this mobility programme has been complet
 ed. Further information about the event will be provided to the scholarship
  recipients in the online information session on August 19th, 2024.\n\nAddi
 tional details can also be found on the short-term programs page.\n\n\n\nSh
 ort-term programs  
DTSTAMP:20240812T112835Z
DTSTART:20240901T050000Z
DTEND:20240907T150000Z
END:VEVENT
END:VCALENDAR
