BEGIN:VCALENDAR
VERSION:2.0
PRODID:https://github.com/derhansen/sf_event_mgt
METHOD:PUBLISH
BEGIN:VEVENT
UID:407-1972@www.hs-schmalkalden.de
CLASS: PUBLIC
SUMMARY:New Year's reception 2026
DESCRIPTION:Am Mittwoch, dem 21. Januar 2026 begrüßen die Hochschule Schmal
 kalden, die Stadt Schmalkalden und die Gesellschaft der Freunde und Fördere
 r der Hochschule um 18.00 Uhr ihre geladenen Gäste aus Politik, Wirtschaft,
  Wissenschaft und Kultur zum traditionellen Neujahrsempfang auf dem Campus.
 \n\nIn ihrer Neujahrsansprache werden der Präsident der Hochschule Schmalka
 lden, Prof. Dr. Gundolf Baier, und der Bürgermeister der Stadt Schmalkalden
 , Thomas Kaminski, auf das Jahr 2025 zurückschauen und einen Ausblick auf d
 ie neuen Herausforderungen in 2026 geben.\n\nNeben dem Festvortrag von Deka
 n Ralf Gebauer zum Thema “Transformation” bietet der Neujahrsempfang alljäh
 rlich zudem den festlichen Rahmen für Ehrungen und Auszeichnungen. So werde
 n u.a. die Förderpreise des VDWF, der Stadt Schmalkalden und der Fördergese
 llschaft 2025 verliehen, die mit je 2.500,- Euro dotiert sind. Ebenso wird 
 der DAAD-Preis 2025 überreicht.
DTSTAMP:20260107T095830Z
DTSTART:20260121T180000Z
DTEND:20260121T210000Z
END:VEVENT
END:VCALENDAR
