BEGIN:VCALENDAR
VERSION:2.0
PRODID:https://github.com/derhansen/sf_event_mgt
METHOD:PUBLISH
BEGIN:VEVENT
UID:206-1972@www.hs-schmalkalden.de
CLASS: PUBLIC
SUMMARY:Neujahrsempfang
DESCRIPTION:Am Mittwoch, dem 22. Januar 2025 laden die Hochschule Schmalkal
 den, die Stadt Schmalkalden und die Gesellschaft der Freunde und Förderer d
 er Hochschule um 18.00 Uhr zum traditionellen Neujahrsempfang auf den Campu
 s. Zahlreiche Gäste aus Politik, Wirtschaft, Wissenschaft und Kultur werden
  erwartet.\n\nIn ihrer Neujahrsansprache werden der Präsident der Hochschul
 e Schmalkalden, Prof. Dr. Gundolf Baier, und der Bürgermeister der Stadt Sc
 hmalkalden, Thomas Kaminski, auf das Jahr 2024 zurückschauen und einen Ausb
 lick auf die neuen Herausforderungen in 2025 geben.\n\nDen Festvortrag wird
  Herr Carsten Schneider, Staatsminister beim Bundeskanzler und Beauftragter
  der Bundesregierung für Ostdeutschland, zum Thema "Zeitenwende" halten.\n\
 nAlljährlich bietet der Neujahrsempfang zudem den festlichen Rahmen für Ehr
 ungen und Auszeichnungen. So werden u.a. die Förderpreise der TEAG, der Sta
 dt Schmalkalden und der Fördergesellschaft 2024 verliehen, die mit je 2.500
 ,- Euro dotiert sind. Ebenso wird der DAAD-Preis 2024 überreicht.\n\nNach d
 em Programm laden die Hochschule, Stadt und Fördergesellschaft zum Empfang.
DTSTAMP:20250106T142132Z
DTSTART:20250122T170000Z
DTEND:20250122T203000Z
END:VEVENT
END:VCALENDAR
