BEGIN:VCALENDAR
VERSION:2.0
PRODID:https://github.com/derhansen/sf_event_mgt
METHOD:PUBLISH
BEGIN:VEVENT
UID:283-1972@www.hs-schmalkalden.de
CLASS: PUBLIC
SUMMARY:Night of the libraries 2025
DESCRIPTION:Join us for the First Nationwide "Night of the Libraries"!\n\nO
 n Friday April 4th, 2025, “Night of the Libraries” will take place for the 
 first time nationwide in Germany.\n\nWith the motto “Knowledge, Share, Disc
 over,” libraries across Germany will open their doors for an exciting night
  of discovery. In Schmalkalden, both the Cellarius University Library and t
 he Heinrich Heine Public Library are joining the celebration with unique ac
 tivities.\n\nAt the Cellarius University Library, enjoy a live robotics dem
 onstration by Engineers Without Borders, explore the future of technology w
 ith our Maschinenbau Faculty, and check out the Unpredictable Compositions 
 abstract art exhibition by Jochen Walter.\n\nMeanwhile, at the Heinrich Hei
 ne Public Library, discover the Schmalkalden Between Book Covers exhibition
 , showcasing regional history.\n\nBoth libraries will be open until 10pm. A
 ll events are free, and everyone is welcome!  \n\nActivities at the Cellari
 us University Library\n\n2 - 8 pm Robotics. Demonstration. "Engineers Witho
 ut Borders". Short film by the Faculty of Mechanical Engineering\n\n3 - 6 p
 m Juice truck. Non-alcoholic cocktails\n\n3:30 - 4:15 pm Lecture on the use
  of AI in academic research (in German) Information in English is available
  on request.\n\n7 - 7:45 pm Lecture on the use of AI in academic research (
 in German) Information in English is available on request.\n\n9 a.m. - 10 p
 .m. Schmalkalden between the book covers. Exhibition of local history liter
 ature\n\n9 a.m. - 10 p.m. "Unpredictable compositions". Abstract paintings 
 by Jochen Walter. Exhibition   \n\nRecommendation for international student
 s\n\nA book corner with novels in foreign languages will be launched at the
  Public Library "Heinrich Heine" at 5 pm.\n\nInternational students are esp
 ecially invited.\n\nThe meeting point for a joint walk to the Public Librar
 y is the foyer of the Cellarius University Library. The start is at 4:30 pm
 .
DTSTAMP:20250326T073727Z
DTSTART:20250404T120000Z
DTEND:20250404T200000Z
END:VEVENT
END:VCALENDAR
