BEGIN:VCALENDAR
VERSION:2.0
PRODID:https://github.com/derhansen/sf_event_mgt
METHOD:PUBLISH
BEGIN:VEVENT
UID:446-1972@www.hs-schmalkalden.de
CLASS: PUBLIC
SUMMARY:RECRUITERS BACKSTAGE: Get Hired – What Recruiters Really Want
DESCRIPTION:RECRUITERS BACKSTAGE: Get Hired – What Recruiters Really Want\n
 \nDate: Wednesday, 19 November 2025Time: 1:00 – 3:00 p.m.Location: Room H11
 2 and onlineRegistration: via the event page on Stud.IP\n\n\n\nNow in its t
 hird edition, RECRUITERS BACKSTAGE once again gives students an authentic l
 ook behind the scenes of the hiring process. This innovative format combine
 s real-world insights, interactive elements, and direct exchange with exper
 ienced recruiters.\n\nThe workshop is facilitated by Sebastian Halsband, re
 cruiter at ETA Personal, who is leading this session for the third consecut
 ive time. With his expertise in engineering and IT positions, he offers par
 ticipants a first-hand perspective on what employers in Germany really look
  for in applicants and how selection processes unfold in practice.\n\nStude
 nts will learn how to tailor their applications to German standards, unders
 tand how artificial intelligence is shaping modern recruitment, and receive
  practical advice on how to stand out as an international candidate. The se
 ssion emphasizes open dialogue and individual feedback, making it a dynamic
  and practice-oriented experience.\n\nA highlight of the event is the live 
 mock interview with a volunteer participant, followed by collective feedbac
 k and discussion — a proven concept that has made this workshop one of the 
 most popular formats among international students.\n\n\n\nWorkshop topics:\
 n\nHow recruiters think: insights into selection and evaluation processesPr
 actical advice on CVs, cover letters, and online profilesThe impact of arti
 ficial intelligence on recruitmentOpportunities and challenges for internat
 ional applicantsInteractive Q&A with personal feedbackLive mock interview a
 nd group discussion\n\n\n\nTarget group:International students and graduate
 s from Schmalkalden University of Applied Sciences and other Thuringian uni
 versities who want to prepare for their career entry in Germany.\n\nLanguag
 e: EnglishRegistration: Participation is free of charge. Please register in
  advance via StudIP.Organisers: Christian Simoneit (International Career Se
 rvice, WORTplus) & Catharina Wassink (Begegnungszentrum, WORTplus)\n\n\n\n
DTSTAMP:20251112T141128Z
DTSTART:20251119T130000Z
DTEND:20251119T150000Z
END:VEVENT
END:VCALENDAR
