BEGIN:VCALENDAR
VERSION:2.0
PRODID:https://github.com/derhansen/sf_event_mgt
METHOD:PUBLISH
BEGIN:VEVENT
UID:383-1972@www.hs-schmalkalden.de
CLASS: PUBLIC
SUMMARY:Vereinsspeeddating
DESCRIPTION:Am Mittwoch, den 8. Oktober 2025, findet um 15:30 Uhr das diesj
 ährige Vereinsspeeddating im Hörsaalgebäude statt. Mit dabei sind verschied
 ene Vereine aus Schmalkalden und Umgebung, von Sport über Soziales bis hin 
 zu Musik und Kunst. \n\nZiel des Events ist es, eine weitere Brücke zwische
 n Hochschule und Stadt zu schlagen sowie Begegnungen außerhalb des Campus z
 u fördern. Studierende, deutsche wie internationale, sollen nicht nur beruf
 liche Perspektiven erhalten, sondern sich auch sozial im Vereinsleben der R
 egion verankern können. „Wer als Zugezogener in der Region Anschluss finden
  möchte“, so der Ortsteilbürgermeister Fabian Amborn aus Wernshausen, „komm
 t an den örtlichen Vereinen nicht vorbei.“ Das Speeddating bietet die perfe
 kte Gelegenheit, Kontakte zu knüpfen, neue Hobbys zu finden und das Leben i
 n Schmalkalden auch über das Studium hinaus mitzugestalten.\n\nBesonders in
 ternationale Studierende haben oft Schwierigkeiten, Kontakte zu Locals zu k
 nüpfen und außerhalb des Campuslebens Anschluss zu finden. Diese Veranstalt
 ung soll den Studierenden die Gelegenheit geben, lokale Vereine kennenzuler
 nen und sich über deren Aktivitäten zu informieren. Vereine hingegen haben 
 die Möglichkeit, Nachwuchs und Neumitglieder zu gewinnen und mit den jungen
  Erwachsenen ins Gespräch zu kommen.
DTSTAMP:20251002T064754Z
DTSTART:20251008T133000Z
DTEND:20251008T150000Z
END:VEVENT
END:VCALENDAR
