BEGIN:VCALENDAR
VERSION:2.0
PRODID:https://github.com/derhansen/sf_event_mgt
METHOD:PUBLISH
BEGIN:VEVENT
UID:161-1972@www.hs-schmalkalden.de
CLASS: PUBLIC
SUMMARY:Workshop: Introduction to Peace and Conflict Studies
DESCRIPTION: Measure of the programme „Zukunft Ukraine“ financed by the Ger
 man Academic Exchange Service (DAAD) with funds from the Federal Foreign Of
 fice\n\n   The world is once again increasingly shaken by geopolitical conf
 licts. Peace and conflict research plays a major role in the analysis of su
 ch conflicts. In contrast to media reporting, peace and conflict research o
 ffers concepts and methods for approaching conflicts objectively and from a
  macro perspective. The compact program provides a practice-oriented insigh
 t into the field of research, its methods, and practical fields of applicat
 ion, especially in the area of international development cooperation. The p
 articipants are briefed and de-briefed online and invited to “Zukunft Ukrai
 ne” project coaching sessions during the seminars. During an academic excur
 sion to the Frankfurt-Rhine-Main region, selected actors will be visited on
  site. The course features guest keynotes. Registration is open via STUD.IP
 . The course is extracurriculary open to all interested students. A certifi
 cate will be issued after completion.  \n\n\n\n 	23/05/24, 19:00-21:00:   P
 rep Session: Information, Orientation and Questions, online              	2
 6/05/24, 10:00-18:00:   Fundamentals I: Perspectives, Schools and Methods, 
 H0013             	31/05/24, 07:00-21:00:   Institutions: Field Trip to the
  Frankfurt Region, Frankfurt         	01/06/24, 10:00-18:00:   Fundamentals
  II: Perspectives, Schools and Methods, H0013             	02/06/24, 09:00-
 16:00:   Application: Analysing Conflicts through own Projects, H0013      
        	04/06/24, 19:00-21:00:   Wrap-up Session: Results, Perspectives and
  Questions, online              
DTSTAMP:20240604T123751Z
DTSTART:20240523T170000Z
DTEND:20240604T130000Z
END:VEVENT
END:VCALENDAR
