BEGIN:VCALENDAR
VERSION:2.0
PRODID:https://github.com/derhansen/sf_event_mgt
METHOD:PUBLISH
BEGIN:VEVENT
UID:409-1972@www.hs-schmalkalden.de
CLASS: PUBLIC
SUMMARY:academicMATCH-Tour: INDUSTRIE INTOUCH – Studierende entdecken Karri
 erechancen in Südthüringen
DESCRIPTION:Am Mittwoch, 5. November 2025, bietet die Hochschule Schmalkald
 en ihren Studierenden im Rahmen der academicMATCH-Tour die Möglichkeit, zwe
 i innovative Unternehmen aus Südthüringen hautnah kennenzulernen: die Hitac
 hi Rail GTS Deutschland GmbH in Arnstadt und die Advanced Micro-optics Tech
 nologies GmbH (AMOT) in Suhl-Albrechts.\n\nMit der academicMATCH-Tour erhal
 ten Studierende die Gelegenheit, regionale Arbeitgeber persönlich kennenzul
 ernen, Berufsfelder zu erkunden und wertvolle Kontakte für den Karriereeins
 tieg in Südthüringen zu knüpfen. Die Veranstaltung ist Teil des regionalen 
 Netzwerkevents INDUSTRIE INTOUCH der IHK Südthüringen, das jährlich exklusi
 ve Einblicke in die industrielle Wirtschaft der Region bietet.\n\nDie ganzt
 ägige Tour wird von der Industrie- und Handelskammer (IHK) Südthüringen in 
 Kooperation mit dem Career Service und dem International Career Service (IC
 S) der Hochschule Schmalkalden organisiert. Sie vermittelt praxisnahe Einbl
 icke in die Arbeitswelt regionaler Unternehmen und zeigt Perspektiven für P
 raktika, Abschlussarbeiten und den Berufseinstieg auf.\n\nDie Hitachi Rail 
 GTS Deutschland GmbH, Teil der globalen Hitachi Group, zählt zu den führend
 en Anbietern von Bahntechnologien. Am Standort Arnstadt entwickeln und fert
 igen rund 650 Mitarbeitende hochmoderne Steuerungs-, Leit- und Sicherungssy
 steme für den Schienenverkehr. Studierende technischer Fachrichtungen profi
 tieren hier von vielfältigen Einstiegs- und Entwicklungsmöglichkeiten.\n\nD
 ie Advanced Micro-optics Technologies GmbH (AMOT) mit Sitz in Suhl-Albrecht
 s ist ein Spezialist für Mikrooptiken aus Polymerwerkstoffen und gehört zur
  internationalen AAC Optics Group. Das Unternehmen fertigt Präzisionsbautei
 le für Anwendungen in der Robotik, Automobilindustrie, Optoelektronik und M
 esstechnik und ermöglicht Studierenden spannende Einblicke in ein hochmoder
 nes Forschungs- und Produktionsumfeld.\n\nDie Teilnahme an der Tour ist kos
 tenfrei, die Zahl der Plätze auf 15 Studierende begrenzt. Eine Anmeldung üb
 er Stud.IP ist erforderlich. Da die Unternehmensführungen auf Deutsch statt
 finden, sind Deutsch-Grundkenntnisse notwendig.\n\nZur Anmeldung: https://s
 tudip.hs-schmalkalden.de/dispatch.php/course/details?sem_id=38fc1928581af1c
 1d9acba4213134ddf&again=yes
DTSTAMP:20251029T131335Z
DTSTART:20251105T080000Z
DTEND:20251105T150000Z
END:VEVENT
END:VCALENDAR
