BEGIN:VCALENDAR
VERSION:2.0
PRODID:https://github.com/derhansen/sf_event_mgt
METHOD:PUBLISH
BEGIN:VEVENT
UID:203-1972@www.hs-schmalkalden.de
CLASS: PUBLIC
SUMMARY:Antrittsvorlesung Prof. Dr. Christoph Menz und Forschungssemesterbe
 richt Prof. Dr. Wiebke Störmann
DESCRIPTION:Traditionell ermöglicht die Hochschule Schmalkalden den neu ber
 ufenen Professorinnen und Professoren sich in einer ca. 25minütigen Antritt
 svorlesung den Studierenden, Professor(inn)en und Mitarbeiter(inne)n der Ho
 chschule vorzustellen.\n\nIn der Veranstaltung am 29. Januar 2025 stellt si
 ch Prof. Dr. Christoph Menz aus der Fakultät Elektrotechnik in seiner Antri
 ttsvorlesung der Hochschulöffentlichkeit vor.\n\nIm Anschluss berichtet Pro
 f. Dr. Wiebke Störmann aus der Fakultät Wirtschaftswissenschaften über die 
 Ergebnisse aus ihrem Forschungssemester.
DTSTAMP:20241216T151634Z
DTSTART:20250129T170000Z
DTEND:20250129T183000Z
END:VEVENT
END:VCALENDAR
