BEGIN:VCALENDAR
VERSION:2.0
PRODID:https://github.com/derhansen/sf_event_mgt
METHOD:PUBLISH
BEGIN:VEVENT
UID:202-1972@www.hs-schmalkalden.de
CLASS: PUBLIC
SUMMARY:Antrittsvorlesung Prof. Dr. Katharina Sachse und Forschungssemester
 bericht Prof. Dr. Annette Dorner-Reisel
DESCRIPTION:Einladung zur akademischen Abendveranstaltung am 4. Dezember\n\
 nAnfang Dezember lädt die Hochschule Schmalkalden wieder zu einer kombinier
 ten akademischen Abendveranstaltung ein, in der auf eine Antrittsvorlesung 
 einer neuberufenen Professur ein Bericht aus einem Forschungssemester folgt
 . Diese sollen Einblick gewähren in aktuelle Forschungsvorhaben und diese w
 issenschaftlichen Projekte neben der Hochschulöffentlichkeit einem breiten 
 Publikum vorstellen und verständlich machen.\n\nProfessorin Katharina Sachs
 e hat kürzlich die Professur für Psychologie an der wirtschaftswissenschaft
 lichen Fakultät angetreten und wird ihre Antrittsvorlesung mit dem Titel „P
 sychologische Mechanismen zur Bindung von Fachkräften“ halten. Der Vortrag 
 beleuchtet zentrale psychologische Faktoren der Mitarbeiterbindung und zeig
 t deren Bedeutung für Unternehmen in Zeiten des Fachkräftemangels. Im Fokus
  stehen affektives Commitment, die Einbettung in den Job und die Auswirkung
 en psychologischer Vertragsbrüche. Es werden praxisnahe Strategien vorgeste
 llt, wie Unternehmen diese Faktoren gezielt nutzen können, um Fluktuation z
 u reduzieren und qualifizierte Mitarbeitende langfristig zu binden.\n\nIm A
 nschluss wird Professorin Anette Dorner-Reisel, Inhaberin der Professur für
  Werkstofftechnik und Werkstoffkunde an der Fakultät Maschinenbau, einen Ei
 nblick geben in ihr Forschungssemester.  \n\nAlle Interessierten sind herzl
 ich eingeladen.\n\nMittwoch, der 04.12.24\n\nBeginn: 18.00 Uhr\n\nOrt: Aula
 \n\n\n\n\n\n
DTSTAMP:20241125T070017Z
DTSTART:20241204T170000Z
DTEND:20241204T183000Z
END:VEVENT
END:VCALENDAR
