BEGIN:VCALENDAR
VERSION:2.0
PRODID:https://github.com/derhansen/sf_event_mgt
METHOD:PUBLISH
BEGIN:VEVENT
UID:272-1972@www.hs-schmalkalden.de
CLASS: PUBLIC
SUMMARY:Antrittsvorlesung Prof. Dr. Konotop und Forschungssemesterbericht P
 rof. Dr. Dr. Urban
DESCRIPTION:Traditionell ermöglicht die Hochschule Schmalkalden den neu ber
 ufenen Professorinnen und Professoren sich in einer ca. 25minütigen Antritt
 svorlesung den Studierenden, Professor(inn)en und Mitarbeiter(inne)n der Ho
 chschule vorzustellen.\n\nIn der Veranstaltung am 25. Juni 2025 stellt sich
  Frau Prof. Dr. Irina Konotop aus der Fakultät Elektrotechnik in ihrer Antr
 ittsvorlesung der Hochschulöffentlichkeit vor.\n\nIm Anschluss berichtet Pr
 of. Dr. Dr. Thomas Urban aus der Fakultät Informatik über die Ergebnisse au
 s seinem Forschungssemester zum Thema "Erfassung sowie Auswertung digitaler
  Gesundheitsdaten zur Verbesserung der Post-Covid-Diagnose und Lebensqualit
 ät".
DTSTAMP:20250423T091453Z
DTSTART:20250625T160000Z
DTEND:20250625T173000Z
END:VEVENT
END:VCALENDAR
