BEGIN:VCALENDAR
VERSION:2.0
PRODID:https://github.com/derhansen/sf_event_mgt
METHOD:PUBLISH
BEGIN:VEVENT
UID:274-1972@www.hs-schmalkalden.de
CLASS: PUBLIC
SUMMARY:Akademische Abendveranstaltung
DESCRIPTION:Einladung zur akademischen Abendveranstaltung\n\nAm 21.Mai wird
  die Tradition eines Abends mit zwei kombinierten Vorträgen an der Hochschu
 le Schmalkalden fortgesetzt. Eine Antrittsvorlesung und ein Bericht aus dem
  Forschungssemester sollen Einblick gewähren in aktuelle Forschungsvorhaben
  und diese wissenschaftlichen Projekte neben der Hochschulöffentlichkeit ei
 nem breiten Publikum vorstellen und verständlich machen.\n\nZunächst wird P
 rofessor Prof. Dr. Ralf Martin Kramer aus der Fakultät Elektrotechnik seine
  Antrittsvorlesung mit dem Titel "Sigma-Shift-Keying (SSK): Ein neuer Ansat
 z zur Low-Power Datenübertragung" halten. In der Antrittsvorlesung wird er 
 eine innovative Methode zur digitalen Datenübertragung vorstellen, das Raus
 chmodulationsverfahren "Sigma-Shift-Keying". Ein Vorzug dieses Ansatzes ist
  der geringere Energieaufwand im Vergleich zu anderen Methoden. Die Vorlesu
 ng wird dieses Verfahren ebenso darlegen wie Anwendungsmöglichkeiten aufzei
 gen und die Vorteile präsentieren. Professor Kramer ist Inhaber der Profess
 ur „Elektronische Schaltungen“.\n\nIm Anschluss wird Prof. Dr. Ulf Müller a
 us der Fakultät Wirtschaftsrecht über die Ergebnisse aus seinem Forschungss
 emester zum Thema "Europäisches Innovationsrecht" berichten.\n\n \n\nAlle I
 nteressierten sind herzlich eingeladen.\n\nMittwoch, der 21. Mai\n\nBeginn:
  18.00 Uhr\n\nOrt: Aula\n\n\n\n
DTSTAMP:20250514T114927Z
DTSTART:20250521T160000Z
DTEND:20250521T173000Z
END:VEVENT
END:VCALENDAR
