BEGIN:VCALENDAR
VERSION:2.0
PRODID:https://github.com/derhansen/sf_event_mgt
METHOD:PUBLISH
BEGIN:VEVENT
UID:315-1972@www.hs-schmalkalden.de
CLASS: PUBLIC
SUMMARY:Ausstellung "Frauen im geteilten Deutschland"
DESCRIPTION:
DTSTAMP:20250526T074438Z
DTSTART:20250526T070000Z
DTEND:20250731T090000Z
END:VEVENT
END:VCALENDAR
