BEGIN:VCALENDAR
VERSION:2.0
PRODID:https://github.com/derhansen/sf_event_mgt
METHOD:PUBLISH
BEGIN:VEVENT
UID:267-1972@www.hs-schmalkalden.de
CLASS: PUBLIC
SUMMARY:Ausstellung „Unvorhersehbare Kompositionen“
DESCRIPTION:Abstrakte Malerei von Jochen Walter\n\nTauchen Sie ein in die W
 elt der abstrakten Malerei: Nach der positiven Resonanz auf die ersten Auss
 tellungen kehrt Jochen Walter mit einer neuen Werkserie zurück in die Cella
 rius-Bibliothek. Unter dem Titel „Unvorhersehbare Kompositionen“ präsentier
 t der Suhler Künstler fesselnde, abstrakte Farbkompositionen, die er mit de
 r Pouring-Technik geschaffen hat.\n\nDurch das Gießen flüssiger Acrylfarben
  auf Leinwände entstehen einzigartige, unwiederholbare Bildwelten. Die inte
 nsiven Farbverläufe und organischen Formen lassen Jochen Walters Werke wie 
 lebendige Landschaften erscheinen. Seit etwa einem Jahr spielt der Maler nu
 n mit der Dynamik der Bewegung und den unvorhersehbaren Reaktionen der Farb
 en. Jedes Werk ist ein farbgewaltiges Experiment, das durch den Zufall und 
 die Intuition des Künstlers bestimmt wird – ein faszinierendes Zusammenspie
 l aus Kontrolle und Freiheit.\n\nJochen Walters expressive Werke sind vom 2
 7. Januar bis zum 28. April in der Cellarius-Bibliothek zu sehen. Einige We
 rke können auch käuflich erworben werden.\n\n\n\nHintergrund\n\nJochen Walt
 er wurde 1952 in Gräfenroda geboren und lebt seit 1967 in Suhl. Seine Leide
 nschaft für die Kunst und besonders für die Malerei wurde maßgeblich von se
 inem Onkel, dem Suhler Bildhauer Erich Wurzer, und dem befreundeten Meining
 er Maler Hans Hattop gefördert. Die moderne Malerei entdeckte er nach dem B
 esuch einer Sonderausstellung des MoMA in Berlin im Jahre 2004 für sich. Zu
 vor malte er hauptsächlich Landschaftsbilder und Blumenstillleben.
DTSTAMP:20250210T072150Z
DTSTART:20250127T094800Z
DTEND:20250428T094800Z
END:VEVENT
END:VCALENDAR
