BEGIN:VCALENDAR
VERSION:2.0
PRODID:https://github.com/derhansen/sf_event_mgt
METHOD:PUBLISH
BEGIN:VEVENT
UID:403-1972@www.hs-schmalkalden.de
CLASS: PUBLIC
SUMMARY:Die JENA Digital Safari - Hinter den Kulissen von Jenas Digitalwirt
 schaft
DESCRIPTION:Der International Career Service (ICS) der Hochschule Schmalkal
 den lädt gemeinsam mit JENA Digital e. V. und der Techniker Krankenkasse zu
 r dritten JENA Digital Safari ein. Am 28. Oktober 2025 öffnen führende Unte
 rnehmen der Jenaer Digitalwirtschaft ihre Türen für unsere Studierenden.\n\
 nDas Konzept hat sich bewährt: Nach erfolgreichen Veranstaltungen in den Ja
 hren 2023 und 2024 ist die JENA Digital Safari zu einem festen Termin im Ka
 rrierekalender geworden. Studierende profitieren von direktem Kontakt zu Ar
 beitgebern, lernen aktuelle Technologien kennen und knüpfen wertvolle beruf
 liche Netzwerke.\n\nBei Unternehmensführungen, Fachgesprächen und Networkin
 g-Sessions mit Vertreterinnen und Vertretern von Adesso SE, Accenture GmbH,
  dotSource SE, Goepel Electronics GmbH, warmwind AG und zollsoft GmbH erfah
 ren die Teilnehmenden, wie digitale Transformation konkret in den Bereichen
  Softwareentwicklung, IT-Beratung, E-Commerce und Smart Manufacturing umges
 etzt wird.\n\nDie JENA Digital Safari richtet sich an Studierende der Infor
 matik, Wirtschaftsinformatik, Betriebswirtschaft und verwandter Studiengäng
 e. Die Teilnahme ist kostenlos, die Plätze sind begrenzt.\n\nEin herzlicher
  Dank gilt dem Studierendenrat für die Organisation und Finanzierung der Bu
 sfahrt ab dem Campus Schmalkalden.\n\nMehr Informationen und Anmeldung: htt
 ps://jenadigitalsafari25.eventbrite.de
DTSTAMP:20251028T085641Z
DTSTART:20251028T080000Z
DTEND:20251028T080000Z
END:VEVENT
END:VCALENDAR
