BEGIN:VCALENDAR
VERSION:2.0
PRODID:https://github.com/derhansen/sf_event_mgt
METHOD:PUBLISH
BEGIN:VEVENT
UID:284-1972@www.hs-schmalkalden.de
CLASS: PUBLIC
SUMMARY:Einschreibung Hochschulsport
DESCRIPTION:Anmeldungen Hochschulsport im Sommersemester 2025\n\nWir freuen
  uns, dass wir im Sommersemester 2025 wieder ein abwechslungsreiches Sportp
 rogramm anbieten können.\n\nDie Registrierung erfolgt über Stud.IP ab Mittw
 och, den 26.03.25 um 16:00 Uhr. (bei Suche "Hochschulsport" eingeben, dann 
 findet man die konkreten Kurse) 
DTSTAMP:20250325T135101Z
DTSTART:20250326T150000Z
DTEND:20250331T100000Z
END:VEVENT
END:VCALENDAR
