BEGIN:VCALENDAR
VERSION:2.0
PRODID:https://github.com/derhansen/sf_event_mgt
METHOD:PUBLISH
BEGIN:VEVENT
UID:385-1972@www.hs-schmalkalden.de
CLASS: PUBLIC
SUMMARY:Einschreibung Hochschulsport
DESCRIPTION:Anmeldungen Hochschulsport im Wintersemester 2025/26\n\nWir fre
 uen uns, auch im Wintersemester 2025/26 wieder ein abwechslungsreiches Spor
 tprogramm anbieten zu können.\n\nDie Registrierung erfolgt über Stud.IP ab 
 Mittwoch, den 08.10.25 um 16:00 Uhr. (bei Suche "Hochschulsport" eingeben, 
 dann findet man die konkreten Kurse) 
DTSTAMP:20251002T065003Z
DTSTART:20251008T140000Z
DTEND:20251008T215900Z
END:VEVENT
END:VCALENDAR
