BEGIN:VCALENDAR
VERSION:2.0
PRODID:https://github.com/derhansen/sf_event_mgt
METHOD:PUBLISH
BEGIN:VEVENT
UID:74-1972@www.hs-schmalkalden.de
CLASS: PUBLIC
SUMMARY:Exkursion nach Tschechien - Field trip to the Czech Republic
DESCRIPTION:Der Hochschule Schmalkalden war es möglich, ein Projekt im Rahm
 en der durch das Bundesministerium für Bildung und Forschung (BMBF) geförde
 rten DAAD-Förderlinie HAW.International einzuwerben. Das hierin enthaltene 
 Teilprojekt „Short-Term.International“ unterstützt dabei Studierende mit bi
 sher geringer Mobilitätserfahrung durch die Einführung praxisnaher Kurzzeit
 mobilitäten.\n\nVom 5. bis 11. November 2023 findet eine Exkursion nach Úst
 í nad Labem, Tschechien statt. Für die Teilnahme unter einem Vollstipendium
  können sich Studierende noch bis zum 30.09.2023 bewerben. Die offizielle A
 uschreibung der Mobilität finden Sie hier. Bewerber:innen nutzen bitte das 
 vorgesehene Bewerbungsformular.\n\nWir wünschen viel Erfolg!\n\n-----------
 ---------------------------------------------------------------------------
 -------------------------------------\n\nSchmalkalden University of Applied
  Sciences was able to acquire a project within the framework of the DAAD fu
 nding line HAW.International funded by the Federal Ministry of Education an
 d Research (BMBF). The "Short-Term.International" sub-project included here
  supports students with little mobility experience to date by introducing p
 ractice-oriented short-term mobility.\n\nAn excursion to Ústí nad Labem, Cz
 ech Republik, will take place from 05.11.2023 to 11.11.2023. Students can s
 till apply for participation under a full scholarship until 30.09.2023. The
  official announcement of the mobility can be found here. Applicants should
  use the application form provided.\n\nWe wish you good luck!
DTSTAMP:20231027T075430Z
DTSTART:20231105T070000Z
DTEND:20231111T145400Z
END:VEVENT
END:VCALENDAR
