BEGIN:VCALENDAR
VERSION:2.0
PRODID:https://github.com/derhansen/sf_event_mgt
METHOD:PUBLISH
BEGIN:VEVENT
UID:200-1972@www.hs-schmalkalden.de
CLASS: PUBLIC
SUMMARY:Feierliche Immatrikulation
DESCRIPTION:Mit einer festlichen Immatrikulationsfeier begrüßt die Hochschu
 le Schmalkalden alle Studienanfänger:innen im Audimax.  \n\nProgramm Immatr
 ikulationsfeier\n\nBegrüßung\n\nProf. Dr. Gundolf Baier, Präsident der Hoch
 schule Schmalkalden\n\nGrußworte\n\nThomas Kaminski, Bürgermeister der Stad
 t Schmalkalden\n\nHenrik Buchenau, Vorsitzender Studierendenrat\n\n\n\nGast
 vortrag \n\nMartin Pötschk, Head of Quality der Bericap Aluminium GmbH und 
 Absolvent der HS Schmalkalden\n\n\n\nVerleihung des TEAG-Förderpreises 2024
  \n\n\n\nVerleihung der Auslandsstipendien 
DTSTAMP:20241008T072835Z
DTSTART:20241009T120000Z
DTEND:20241009T133000Z
END:VEVENT
END:VCALENDAR
