BEGIN:VCALENDAR
VERSION:2.0
PRODID:https://github.com/derhansen/sf_event_mgt
METHOD:PUBLISH
BEGIN:VEVENT
UID:52-1972@www.hs-schmalkalden.de
CLASS: PUBLIC
SUMMARY:Feierliche Immatrikulation
DESCRIPTION:Mit einer festlichen Immatrikulationsfeier begrüßt die Hochschu
 le Schmalkalden alle Studienanfänger:innen im Audimax.  \n\nProgramm Immatr
 ikulationsfeier\n\nBegrüßung\n\nProf. Dr. Gundolf Baier, Präsident der Hoch
 schule Schmalkalden\n\nGrußworte\n\nThomas Kaminski, Bürgermeister der Stad
 t Schmalkalden\n\nHenrik Buchenau, Vorsitzender Studierendenrat\n\n\n\nGast
 vortrag \n\nProf. Dr. Mareike Heinemann Professorin für Corporate and Behav
 ioural Finance an der Fakultät Wirtschaftswissenschafen der Hochschule Schm
 alkalden\n\n\n\nVerleihung des Förderpreises 2023 \n\nPreis des VDWF an Her
 rn Markus Diegel\n\n\n\nVergabe der Auslandsstipendien durch die Fördergese
 llschaft\n\n\n\nDie Veranstaltung wird durch die Musikschule Schmalkalden u
 mrahmt.
DTSTAMP:20230829T092635Z
DTSTART:20231011T090000Z
DTEND:20231011T103000Z
END:VEVENT
END:VCALENDAR
