BEGIN:VCALENDAR
VERSION:2.0
PRODID:https://github.com/derhansen/sf_event_mgt
METHOD:PUBLISH
BEGIN:VEVENT
UID:131-1972@www.hs-schmalkalden.de
CLASS: PUBLIC
SUMMARY:Forschungssemesterberichte Prof. Dr. Kammel und Prof. Dr. Schneider
DESCRIPTION:In der Veranstaltung am 24. April 2024 stellen Prof. Dr. Andrea
 s Kammel aus der Fakultät Wirtschaftswissenschaften sowie Prof. Dr. Matthia
 s Schneider aus der Fakultät Wirtschaftsrecht in einem jeweils ca. 25 minüt
 igen Vortrag die Ergebnisse ihrer Forschungssemester vor.\n\nAlle Interessi
 erten sind zu der Veranstaltung um 18:00 Uhr in die Aula eingeladen.
DTSTAMP:20240205T125905Z
DTSTART:20240424T160000Z
DTEND:20240424T173000Z
END:VEVENT
END:VCALENDAR
