BEGIN:VCALENDAR
VERSION:2.0
PRODID:https://github.com/derhansen/sf_event_mgt
METHOD:PUBLISH
BEGIN:VEVENT
UID:504-3389@www.hs-schmalkalden.de
CLASS: PUBLIC
SUMMARY:Forum Berufsstart Nordhausen
DESCRIPTION:https://web.arbeitsagentur.de/portal/metasuche/suche/veranstalt
 ungen/10000-2001617215-V
DTSTAMP:20260126T090108Z
DTSTART:20260307T100000Z
DTEND:20260307T140000Z
END:VEVENT
END:VCALENDAR
