BEGIN:VCALENDAR
VERSION:2.0
PRODID:https://github.com/derhansen/sf_event_mgt
METHOD:PUBLISH
BEGIN:VEVENT
UID:458-1972@www.hs-schmalkalden.de
CLASS: PUBLIC
SUMMARY:Student Start-Up Competition
DESCRIPTION:Hast du eine Vision, die den Alltag smarter macht, ein technisc
 hes Problem löst oder die Welt ein Stück nachhaltiger gestaltet? Dann nutze
  die Gelegenheit und bewirb dich beim Student Start-Up Competition 2026! Ge
 winne finanzielle Unterstützung, um deine Vision Wirklichkeit werden zu las
 sen. \n\nWichtige Termine: \n\nBewerbungsstart: 12. Januar 2026 \n\nDeadlin
 e: 22. Mai 2026, 20:00 Uhr \n\nPitch und Prämierung: 17. Juni 2026 \n\nPrei
 se: \n\nDie ersten drei Plätze erhalten ein Stipendium für die Entwicklung 
 ihrer Idee. Sei es für die Marktforschung, den Bau eines Prototyps oder zur
  Vorbereitung einer EXIST-Förderung.\n\nAlle Informationen zu Teilnahmebedi
 ngungen und die Vorlagen des Bewerbungsformulars sind auf der Webseite des 
 Gründungsservice zu finden.\n\nhttps://www.hs-schmalkalden.de/forschung/gru
 enderservice
DTSTAMP:20260320T074416Z
DTSTART:20260501T075400Z
DTEND:20260522T085400Z
END:VEVENT
END:VCALENDAR
