BEGIN:VCALENDAR
VERSION:2.0
PRODID:https://github.com/derhansen/sf_event_mgt
METHOD:PUBLISH
BEGIN:VEVENT
UID:283-1972@www.hs-schmalkalden.de
CLASS: PUBLIC
SUMMARY:Nacht der Bibliotheken
DESCRIPTION:Am 4. April 2025 findet erstmalig bundesweit die "Nacht der Bib
 liotheken" statt. Unter dem Motto „Wissen. Teilen. Entdecken“ laden große u
 nd kleine, wissenschaftliche und Öffentliche Bibliotheken ein, ihre ganz un
 terschiedlichen Angebote und Services zu entdecken.\n\nIn Schmalkalden bete
 iligen sich die Cellarius-Hochschulbibliothek und die Stadt- und Kreisbibli
 othek Heinrich Heine gemeinsam mit verschiedenen Aktionen und Veranstaltung
 en an diesem Format. Beide Bibliotheken werden ganztägig bis 22 Uhr geöffne
 t sein. Die Bevölkerung ist herzlich eingeladen, die Bibliotheken zu besuch
 en und die unterschiedlichen Angebote kostenlos zu nutzen.\n\nIn der Cellar
 ius-Hochschulbibliothek können an diesem Tag die vielfältigen Möglichkeiten
  einer wissenschaftlichen Einrichtung entdeckt werden. Es werden unter ande
 rem Vorträge zur „Literaturrecherche mit Künstlicher Intelligenz“ gehalten.
  In Zusammenarbeit mit der Fakultät Maschinenbau werden Roboter präsentiert
 . Das Bibliotheksgebäude und die zwei temporären Ausstellungen können indiv
 iduell oder bei einer Führung besichtigt werden. Am barrierefreien Arbeitsp
 latz steht das neue Bildschirmlesegerät zum Testen zur Verfügung und die Bu
 chtausch- und Mitnahmebörse laden zum Stöbern ein.  \n\nProgramm der Cellar
 ius-Bibliothek  \n\n14 - 20 Uhr Robotertechnik. Vorführung. ‘Ingenieure ohn
 e Grenzen‘. Infofilm der Fakultät Maschinenbau\n\n15 - 18 Uhr Saftmobil ‘Ju
 icebox‘. Angebot an alkoholfreien Cocktails\n\n15:30 - 16:15 Uhr Hey KI, fi
 nde relevante Quellen für mich. Vortrag\n\n19 - 19:45 Uhr Hey KI, finde rel
 evante Quellen für mich. Vortrag\n\n9 - 22 Uhr Schmalkalden zwischen Buchde
 ckeln. Ausstellung regionalgeschichtlicher Literatur\n\n9 - 22 Uhr Unvorher
 sehbare Kompositionen. Abstrakte Malerei von Jochen Walter. Ausstellung\n\n
 \n\nTipp für internationale Studierende\n\nUm 17 Uhr wird in der Stadt- und
  Kreisbibliothek "Heinrich Heine" eine Buchecke mit fremdsprachigen Romanen
  eröffnet. Hierzu sind besonders die internationalen Studierenden eingelade
 n. Treffpunkt für einen gemeinsamen Nachmittagsspaziergang zur Stadt- und K
 reisbibliothek ist das Foyer der Cellarius-Hochschulbibliothek. Der Start i
 st um 16:30 Uhr.\n\n\n\n
DTSTAMP:20250324T082402Z
DTSTART:20250404T120000Z
DTEND:20250404T200000Z
END:VEVENT
END:VCALENDAR
