BEGIN:VCALENDAR
VERSION:2.0
PRODID:https://github.com/derhansen/sf_event_mgt
METHOD:PUBLISH
BEGIN:VEVENT
UID:446-1972@www.hs-schmalkalden.de
CLASS: PUBLIC
SUMMARY:RECRUITERS BACKSTAGE: Erfolgreich bewerben – was Recruiter wirklich
  wollen
DESCRIPTION:RECRUITERS BACKSTAGE: Erfolgreich bewerben – was Recruiter wirk
 lich wollen\n\nDatum: Mittwoch, 19. November 2025Uhrzeit: 13:00 – 15:00 Uhr
 Ort: Raum H112 sowie onlineAnmeldung: über Stud.IP\n\n\n\nBereits zum dritt
 en Mal bietet RECRUITERS BACKSTAGE Studierenden die Möglichkeit, hinter die
  Kulissen des Bewerbungsprozesses zu blicken. Das Format verbindet praxisna
 he Einblicke, interaktive Übungen und den direkten Austausch mit einem erfa
 hrenen Recruiting-Experten.\n\nDer Workshop wird von Sebastian Halsband, Gr
 ünder und Inhaber der Recruiting-Agentur ETA Personal, geleitet. Er bericht
 et aus seiner täglichen Arbeit und zeigt, worauf Unternehmen im Auswahlproz
 ess tatsächlich achten – von der ersten Sichtung der Unterlagen bis zur fin
 alen Entscheidung.\n\nDie Teilnehmenden erfahren, wie sie ihre Bewerbungsun
 terlagen gezielt an die Erwartungen des deutschen Arbeitsmarkts anpassen un
 d welche Rolle Künstliche Intelligenz im Recruiting spielt. Im Mittelpunkt 
 steht der Dialog auf Augenhöhe – mit Raum für Fragen, Feedback und praxisna
 he Übungen, die das Thema unmittelbar erfahrbar machen.\n\nEin besonderes H
 ighlight ist das Live-Mock-Interview mit einem freiwilligen Teilnehmenden. 
 Dabei wird ein Bewerbungsgespräch simuliert und anschließend gemeinsam ausg
 ewertet – ein bewährtes Konzept, das realistische Einblicke in Gesprächsver
 läufe bietet und wertvolles Feedback aus erster Hand vermittelt.\n\n\n\nThe
 men des Workshops:\n\nWie Recruiter denken: Einblicke in Auswahl- und Entsc
 heidungsprozessePraktische Tipps zu Lebenslauf, Anschreiben und Online-Prof
 ilDer Einfluss von Künstlicher Intelligenz auf das RecruitingChancen und He
 rausforderungen internationaler BewerbungsprofileInteraktive Fragerunde mit
  individuellem FeedbackLive-Mock-Interview mit gemeinsamer Auswertung\n\n\n
 \nZielgruppe:Internationale Studierende und Absolvent:innen der Hochschule 
 Schmalkalden sowie anderer Thüringer Hochschulen, die sich gezielt auf den 
 Berufseinstieg in Deutschland vorbereiten möchten.\n\nSprache: EnglischAnme
 ldung: Die Teilnahme ist kostenfrei. Eine vorherige Anmeldung über StudIP i
 st erforderlich.Veranstalter: Christian Simoneit (International Career Serv
 ice, WORTplus) & Catharina Wassink (Begegnungszentrum, WORTplus)\n\n\n\n
DTSTAMP:20251112T140954Z
DTSTART:20251119T130000Z
DTEND:20251119T150000Z
END:VEVENT
END:VCALENDAR
