BEGIN:VCALENDAR
VERSION:2.0
PRODID:https://github.com/derhansen/sf_event_mgt
METHOD:PUBLISH
BEGIN:VEVENT
UID:607-3389@www.hs-schmalkalden.de
CLASS: PUBLIC
SUMMARY:Schulbesuch an der Hermann-Lietz-Schule Haubinda
DESCRIPTION:https://www.internatsdorf.de/
DTSTAMP:20260417T092313Z
DTSTART:20260423T140000Z
DTEND:20260423T153000Z
END:VEVENT
END:VCALENDAR
