BEGIN:VCALENDAR
VERSION:2.0
PRODID:https://github.com/derhansen/sf_event_mgt
METHOD:PUBLISH
BEGIN:VEVENT
UID:615-1972@www.hs-schmalkalden.de
CLASS: PUBLIC
SUMMARY:Studieren mit Behinderung/chronischer Krankheit und Nachteilsausgle
 iche (Online)
DESCRIPTION:Sie studieren an der Hochschule Schmalkalden und benötigen aufg
 rund Ihrer Behinderung oder Erkrankung organisatorische Unterstützung? Dies
 e Informationsveranstaltung gibt einen Überblick zu Angeboten und Regelunge
 n zum Studium mit Behinderung und/oder chronischer Erkrankung an der Hochsc
 hule. Des Weiteren haben Sie die Möglichkeit individuelle Fragen zu folgend
 en Themen zu klären:\n\n• Studienrelevante Beeinträchtigungen\n\n• Nachteil
 sausgleich im Studium und bei Prüfungen\n\n• Anlaufstellen und Ansprechpart
 ner:innen\n\n\n\nReferentin: Selina Manger (Diversitätsbeauftragte der Hoch
 schule Schmalkalden)\n\nOrt: online https://greenlight.hs-schmalkalden.de/b
 /sel-vxj-pa1-uel   (ohne Anmeldung)\n\nZeit: Mittwoch, 06.05.26 // 18.00 – 
 19.00 Uhr (inklusive Zeit für individuelle Fragen)
DTSTAMP:20260422T062656Z
DTSTART:20260506T180000Z
DTEND:20260506T190000Z
END:VEVENT
END:VCALENDAR
