BEGIN:VCALENDAR
VERSION:2.0
PRODID:https://github.com/derhansen/sf_event_mgt
METHOD:PUBLISH
BEGIN:VEVENT
UID:613-1972@www.hs-schmalkalden.de
CLASS: PUBLIC
SUMMARY:World Robot Olympiad - Regionalrunde
DESCRIPTION:Wir laden Sie herzlich ein, an dieser Veranstaltung teilzunehme
 n und Teil einer Zukunft zu werden, die Innovation, Kreativität und kulture
 llen Austausch verbindet.\n\nDie World Robot Olympiad (WRO) ist ein interna
 tionaler Roboterwettbewerb, der Kinder und Jugendliche für Naturwissenschaf
 ten, Technik und Robotik begeistert. Teilnehmende im Alter von 8 bis 22 Jah
 ren arbeiten in 2er- oder 3er-Teams mit Unterstützung eines Coaches an jähr
 lich wechselnden Aufgaben. Der Wettbewerb fördert nicht nur technisches Wis
 sen, sondern auch soziale Kompetenzen durch Teamarbeit und kreatives Proble
 mlösen.\n\nDie Teams treten in verschiedenen Altersklassen und einer der vi
 er Wettbewerbskategorien an, wobei sie alle verfügbaren Robotertechnologien
  und Software nutzen dürfen. Dies ermöglicht besonders kreative Lösungen. E
 ins der vier Wettkampf-Kategorien werden bei der Regionalveranstaltung in S
 chmalkalden am 09.05.2026 vorgestellt:\n\nFuture Innovators: In dieser Kate
 gorie entwickeln die Teams ein Robotermodell zum saisonalen Thema und präse
 ntieren ihre Lösung in den Bereichen "Projekt & Innovation", "Robotiklösung
 " sowie "Präsentation & Teamgeist". Für ältere Jugendliche steht dabei auch
  die Frage im Vordergrund, wie ihre Roboteridee in der realen Welt umgesetz
 t werden kann.\n\nJedes Jahr stehen die WRO-Wettbewerbe unter einem neuen T
 hema. In der Saison 2026 werden die Teams erforschen, wie Roboter dazu beit
 ragen können, Kunst und Kultur zu gestalten, zu bewahren und zu fördern. Vo
 n prähistorischen Höhlenmalereien bis hin zu moderner Digitaltechnik, von M
 ode bis Architektur – Kreativität spielt schon immer eine zentrale Rolle be
 im Erzählen von Geschichten, beim Bewahren von Traditionen und beim Inspiri
 ren von Innovationen.\n\nNeun Teams aus verschiedenen Schulen (Staatliches 
 Gymnasium "Ernst Abbe" in Eisenach, Philipp-Melanchthon-Gymnasium in Schmal
 kalden, Bildungspartner in Meiningen, Mehnert GmbH NL in Erfurt, Gymnasium 
 in Meiningen, Regelschule in Floh-Seligenthal) und Altersgruppen werden sic
 h treffen, um ihre Ideen und Visionen darüber auszutauschen, wie Roboter mi
 t Kultur durch spannende Roboter-Designs und praktische Anwendungsfälle ver
 bunden werden können.\n\nDie Finalisten werden die Region bei den Deutschen
  Finals in Trier vertreten.\n\nDer regionale Wettbewerb findet am 09.05.202
 6 auf dem Campus der Hochschule Schmalkalden, Blechhammer 9, 98574 Schmalka
 lden von 8:30 bis 16:30 Uhr statt. \n\n\n\nDie wichtigsten Termine der WRO-
 Saison 2026 sind:\n\n09 Mai 2026: Regionalwettbewerb in Schmalkalden\n\n19.
  & 20. Juni 2026: Deutschlandfinale in Trier\n\nWeitere Wettbewerbsstufen: 
 Europafinale (September 2026), Weltfinale (November 2026) \n\nWeitere Infor
 mationen finden Sie unter:\n\nwww.worldrobotolympiad.de
DTSTAMP:20260422T052533Z
DTSTART:20260509T130000Z
DTEND:20260509T160000Z
END:VEVENT
END:VCALENDAR
