BEGIN:VCALENDAR
VERSION:2.0
PRODID:https://github.com/derhansen/sf_event_mgt
METHOD:PUBLISH
BEGIN:VEVENT
UID:292-1972@www.hs-schmalkalden.de
CLASS: PUBLIC
SUMMARY:World Robot Olympiad Regionalwettbewerb
DESCRIPTION:Am 10. Mai 2025 findet ein Wettbewerb der World Robot Olympiad 
 (WRO) in Schmalkalden an der Hochschule Schmalkalden statt. 14 Teams aus de
 r Region treten in Schmalkalden an der Hochschule Schmalkalden an und haben
  die Chance, sich für das Deutschlandfinale in Dortmund zu qualifizieren.\n
 \nDie World Robot Olympiad (WRO) ist ein internationaler Roboterwettbewerb,
  der Kinder und Jugendliche für Naturwissenschaften, Technik und Robotik be
 geistert. Teilnehmende im Alter von 8 bis 22 Jahren arbeiten in 2er- oder 3
 er-Teams mit Unterstützung eines Coaches an jährlich wechselnden Aufgaben. 
 Der Wettbewerb fördert nicht nur technisches Wissen, sondern auch soziale K
 ompetenzen durch Teamarbeit und kreatives Problemlösen.\n\nDie besten Teams
  der regionalen Wettbewerbe qualifizieren sich für das Deutschlandfinale, d
 as am 27. und 28. Juni 2025 in der Dortmunder Westfalenhalle stattfinden wi
 rd. Wer dort heraussticht, kann sich für das Europafinale in Slowenien oder
  sogar das Weltfinale qualifizieren, das im November in Singapur ausgetrage
 n wird. Mit Teilnehmern aus über 100 Ländern bietet die WRO nicht nur einen
  spannenden Wettbewerb, sondern auch die Möglichkeit zu interkulturellem Au
 stausch und internationalen Freundschaften!\n\nIn diesem Jahr werden an der
  Hochschule Schmalkalden regionale Wettbewerbe in zwei Kategorien durchgefü
 hrt:  Future Innovators (10 Teams) und Future Engineers (4 Teams). Weitere 
 Einzelheiten finden Sie in der beigefügten Anlage.\n\nWir laden Sie herzlic
 h zu der Veranstaltung ein, bei der Sie nicht nur die vorgestellten Teams u
 nd Projekte kennenlernen können, sondern auch an interaktiven MINT-Workshop
 s im Rahmen des Forschungstages teilnehmen können\n\nWir wünschen Ihnen ein
 en schönen Tag und sehen uns beim Wettbewerb!\n\n\n\nProgrammflyer
DTSTAMP:20250409T100942Z
DTSTART:20250510T063000Z
DTEND:20250510T143000Z
END:VEVENT
END:VCALENDAR
